BEGIN:VCALENDAR
VERSION:2.0
PRODID:-//Carter County Drug Prevention Coalition - ECPv6.15.20//NONSGML v1.0//EN
CALSCALE:GREGORIAN
METHOD:PUBLISH
X-ORIGINAL-URL:https://cartercountydrugprevention.org
X-WR-CALDESC:Events for Carter County Drug Prevention Coalition
REFRESH-INTERVAL;VALUE=DURATION:PT1H
X-Robots-Tag:noindex
X-PUBLISHED-TTL:PT1H
BEGIN:VTIMEZONE
TZID:America/New_York
BEGIN:DAYLIGHT
TZOFFSETFROM:-0500
TZOFFSETTO:-0400
TZNAME:EDT
DTSTART:20250309T070000
END:DAYLIGHT
BEGIN:STANDARD
TZOFFSETFROM:-0400
TZOFFSETTO:-0500
TZNAME:EST
DTSTART:20251102T060000
END:STANDARD
BEGIN:DAYLIGHT
TZOFFSETFROM:-0500
TZOFFSETTO:-0400
TZNAME:EDT
DTSTART:20260308T070000
END:DAYLIGHT
BEGIN:STANDARD
TZOFFSETFROM:-0400
TZOFFSETTO:-0500
TZNAME:EST
DTSTART:20261101T060000
END:STANDARD
BEGIN:DAYLIGHT
TZOFFSETFROM:-0500
TZOFFSETTO:-0400
TZNAME:EDT
DTSTART:20270314T070000
END:DAYLIGHT
BEGIN:STANDARD
TZOFFSETFROM:-0400
TZOFFSETTO:-0500
TZNAME:EST
DTSTART:20271107T060000
END:STANDARD
END:VTIMEZONE
BEGIN:VEVENT
DTSTART;TZID=America/New_York:20260222T120000
DTEND;TZID=America/New_York:20260222T170000
DTSTAMP:20260421T224817
CREATED:20260113T184143Z
LAST-MODIFIED:20260113T184245Z
UID:10002382-1771761600-1771779600@cartercountydrugprevention.org
SUMMARY:Free Haircuts
DESCRIPTION:Join us for a community collaboration free haircut event. 12pm-5pm on February 22\, 2026. 1266 Bluefield Ave in the Community Center.\nWe will have light refreshments\, games\, and resources. For any questions\, call Valdare johnson at 423-723-5041.
URL:https://cartercountydrugprevention.org/event/free-haircuts/
LOCATION:1266 Bluefield Avenue\, Elizabethton\, TN 37643\, 1266 Bluefield Avenue\, Elizabethton\, TN\, 37643\, United States
ATTACH;FMTTYPE=image/webp:https://cartercountydrugprevention.org/wp-content/uploads/2026/01/Free-Haircuts-Event-Flyer.webp
END:VEVENT
BEGIN:VEVENT
DTSTART;TZID=America/New_York:20260206T160000
DTEND;TZID=America/New_York:20260206T190000
DTSTAMP:20260421T224817
CREATED:20260113T185045Z
LAST-MODIFIED:20260113T185045Z
UID:10002383-1770393600-1770404400@cartercountydrugprevention.org
SUMMARY:Game Night
DESCRIPTION:Join us for a night of food\, games\, and resources from 4pm-7pm at 1266 Bluefield Avenue in the Community Center. Totally free.
URL:https://cartercountydrugprevention.org/event/game-night/
LOCATION:1266 Bluefield Avenue\, Elizabethton\, TN 37643\, 1266 Bluefield Avenue\, Elizabethton\, TN\, 37643\, United States
ATTACH;FMTTYPE=image/webp:https://cartercountydrugprevention.org/wp-content/uploads/2026/01/Game-Night-Event-Flyer.webp
END:VEVENT
END:VCALENDAR