BEGIN:VCALENDAR
VERSION:2.0
PRODID:-//Carter County Drug Prevention Coalition - ECPv6.15.20//NONSGML v1.0//EN
CALSCALE:GREGORIAN
METHOD:PUBLISH
X-WR-CALNAME:Carter County Drug Prevention Coalition
X-ORIGINAL-URL:https://cartercountydrugprevention.org
X-WR-CALDESC:Events for Carter County Drug Prevention Coalition
REFRESH-INTERVAL;VALUE=DURATION:PT1H
X-Robots-Tag:noindex
X-PUBLISHED-TTL:PT1H
BEGIN:VTIMEZONE
TZID:America/New_York
BEGIN:DAYLIGHT
TZOFFSETFROM:-0500
TZOFFSETTO:-0400
TZNAME:EDT
DTSTART:20250309T070000
END:DAYLIGHT
BEGIN:STANDARD
TZOFFSETFROM:-0400
TZOFFSETTO:-0500
TZNAME:EST
DTSTART:20251102T060000
END:STANDARD
BEGIN:DAYLIGHT
TZOFFSETFROM:-0500
TZOFFSETTO:-0400
TZNAME:EDT
DTSTART:20260308T070000
END:DAYLIGHT
BEGIN:STANDARD
TZOFFSETFROM:-0400
TZOFFSETTO:-0500
TZNAME:EST
DTSTART:20261101T060000
END:STANDARD
BEGIN:DAYLIGHT
TZOFFSETFROM:-0500
TZOFFSETTO:-0400
TZNAME:EDT
DTSTART:20270314T070000
END:DAYLIGHT
BEGIN:STANDARD
TZOFFSETFROM:-0400
TZOFFSETTO:-0500
TZNAME:EST
DTSTART:20271107T060000
END:STANDARD
END:VTIMEZONE
BEGIN:VEVENT
DTSTART;TZID=America/New_York:20260520T180000
DTEND;TZID=America/New_York:20260520T193000
DTSTAMP:20260419T120913
CREATED:20260128T190413Z
LAST-MODIFIED:20260128T190413Z
UID:10002451-1779300000-1779305400@cartercountydrugprevention.org
SUMMARY:Create & Cope: Youth Art Workshop
DESCRIPTION:Free art workshop for youth ages 8-18. This gathering is held in an open creativity environment where youth will be encouraged to express themselves and learn how visual arts can serve as a healthy coping skills. \nSnacks and drinks provided. \nWorkshops are led by our Executive Director\, Nash Acuña\, Professional Artist and Certified Creative Life Coach \nSpecial thanks to TDMHSAS and The Mooneyhan Family Foundation for their support of this program!
URL:https://cartercountydrugprevention.org/event/create-cope/2026-05-20/
LOCATION:Carter County Drug Prevention Office\, 1217 W. G. Street\, Elizabethton\, TN\, 37643\, United States
ATTACH;FMTTYPE=image/webp:https://cartercountydrugprevention.org/wp-content/uploads/2026/01/Create-Cope.webp
END:VEVENT
BEGIN:VEVENT
DTSTART;TZID=America/New_York:20260617T180000
DTEND;TZID=America/New_York:20260617T193000
DTSTAMP:20260419T120913
CREATED:20260128T190413Z
LAST-MODIFIED:20260128T190413Z
UID:10002452-1781719200-1781724600@cartercountydrugprevention.org
SUMMARY:Create & Cope: Youth Art Workshop
DESCRIPTION:Free art workshop for youth ages 8-18. This gathering is held in an open creativity environment where youth will be encouraged to express themselves and learn how visual arts can serve as a healthy coping skills. \nSnacks and drinks provided. \nWorkshops are led by our Executive Director\, Nash Acuña\, Professional Artist and Certified Creative Life Coach \nSpecial thanks to TDMHSAS and The Mooneyhan Family Foundation for their support of this program!
URL:https://cartercountydrugprevention.org/event/create-cope/2026-06-17/
LOCATION:Carter County Drug Prevention Office\, 1217 W. G. Street\, Elizabethton\, TN\, 37643\, United States
ATTACH;FMTTYPE=image/webp:https://cartercountydrugprevention.org/wp-content/uploads/2026/01/Create-Cope.webp
END:VEVENT
BEGIN:VEVENT
DTSTART;TZID=America/New_York:20260715T180000
DTEND;TZID=America/New_York:20260715T193000
DTSTAMP:20260419T120913
CREATED:20260128T190413Z
LAST-MODIFIED:20260128T190413Z
UID:10002453-1784138400-1784143800@cartercountydrugprevention.org
SUMMARY:Create & Cope: Youth Art Workshop
DESCRIPTION:Free art workshop for youth ages 8-18. This gathering is held in an open creativity environment where youth will be encouraged to express themselves and learn how visual arts can serve as a healthy coping skills. \nSnacks and drinks provided. \nWorkshops are led by our Executive Director\, Nash Acuña\, Professional Artist and Certified Creative Life Coach \nSpecial thanks to TDMHSAS and The Mooneyhan Family Foundation for their support of this program!
URL:https://cartercountydrugprevention.org/event/create-cope/2026-07-15/
LOCATION:Carter County Drug Prevention Office\, 1217 W. G. Street\, Elizabethton\, TN\, 37643\, United States
ATTACH;FMTTYPE=image/webp:https://cartercountydrugprevention.org/wp-content/uploads/2026/01/Create-Cope.webp
END:VEVENT
BEGIN:VEVENT
DTSTART;TZID=America/New_York:20260812T180000
DTEND;TZID=America/New_York:20260812T193000
DTSTAMP:20260419T120913
CREATED:20260128T190413Z
LAST-MODIFIED:20260128T190413Z
UID:10002454-1786557600-1786563000@cartercountydrugprevention.org
SUMMARY:Create & Cope: Youth Art Workshop
DESCRIPTION:Free art workshop for youth ages 8-18. This gathering is held in an open creativity environment where youth will be encouraged to express themselves and learn how visual arts can serve as a healthy coping skills. \nSnacks and drinks provided. \nWorkshops are led by our Executive Director\, Nash Acuña\, Professional Artist and Certified Creative Life Coach \nSpecial thanks to TDMHSAS and The Mooneyhan Family Foundation for their support of this program!
URL:https://cartercountydrugprevention.org/event/create-cope/2026-08-12/
LOCATION:Carter County Drug Prevention Office\, 1217 W. G. Street\, Elizabethton\, TN\, 37643\, United States
ATTACH;FMTTYPE=image/webp:https://cartercountydrugprevention.org/wp-content/uploads/2026/01/Create-Cope.webp
END:VEVENT
BEGIN:VEVENT
DTSTART;TZID=America/New_York:20260916T180000
DTEND;TZID=America/New_York:20260916T193000
DTSTAMP:20260419T120913
CREATED:20260128T190413Z
LAST-MODIFIED:20260128T190413Z
UID:10002455-1789581600-1789587000@cartercountydrugprevention.org
SUMMARY:Create & Cope: Youth Art Workshop
DESCRIPTION:Free art workshop for youth ages 8-18. This gathering is held in an open creativity environment where youth will be encouraged to express themselves and learn how visual arts can serve as a healthy coping skills. \nSnacks and drinks provided. \nWorkshops are led by our Executive Director\, Nash Acuña\, Professional Artist and Certified Creative Life Coach \nSpecial thanks to TDMHSAS and The Mooneyhan Family Foundation for their support of this program!
URL:https://cartercountydrugprevention.org/event/create-cope/2026-09-16/
LOCATION:Carter County Drug Prevention Office\, 1217 W. G. Street\, Elizabethton\, TN\, 37643\, United States
ATTACH;FMTTYPE=image/webp:https://cartercountydrugprevention.org/wp-content/uploads/2026/01/Create-Cope.webp
END:VEVENT
BEGIN:VEVENT
DTSTART;TZID=America/New_York:20261014T180000
DTEND;TZID=America/New_York:20261014T193000
DTSTAMP:20260419T120913
CREATED:20260128T190413Z
LAST-MODIFIED:20260128T190413Z
UID:10002456-1792000800-1792006200@cartercountydrugprevention.org
SUMMARY:Create & Cope: Youth Art Workshop
DESCRIPTION:Free art workshop for youth ages 8-18. This gathering is held in an open creativity environment where youth will be encouraged to express themselves and learn how visual arts can serve as a healthy coping skills. \nSnacks and drinks provided. \nWorkshops are led by our Executive Director\, Nash Acuña\, Professional Artist and Certified Creative Life Coach \nSpecial thanks to TDMHSAS and The Mooneyhan Family Foundation for their support of this program!
URL:https://cartercountydrugprevention.org/event/create-cope/2026-10-14/
LOCATION:Carter County Drug Prevention Office\, 1217 W. G. Street\, Elizabethton\, TN\, 37643\, United States
ATTACH;FMTTYPE=image/webp:https://cartercountydrugprevention.org/wp-content/uploads/2026/01/Create-Cope.webp
END:VEVENT
BEGIN:VEVENT
DTSTART;TZID=America/New_York:20261111T180000
DTEND;TZID=America/New_York:20261111T193000
DTSTAMP:20260419T120913
CREATED:20260128T190413Z
LAST-MODIFIED:20260128T190413Z
UID:10002457-1794420000-1794425400@cartercountydrugprevention.org
SUMMARY:Create & Cope: Youth Art Workshop
DESCRIPTION:Free art workshop for youth ages 8-18. This gathering is held in an open creativity environment where youth will be encouraged to express themselves and learn how visual arts can serve as a healthy coping skills. \nSnacks and drinks provided. \nWorkshops are led by our Executive Director\, Nash Acuña\, Professional Artist and Certified Creative Life Coach \nSpecial thanks to TDMHSAS and The Mooneyhan Family Foundation for their support of this program!
URL:https://cartercountydrugprevention.org/event/create-cope/2026-11-11/
LOCATION:Carter County Drug Prevention Office\, 1217 W. G. Street\, Elizabethton\, TN\, 37643\, United States
ATTACH;FMTTYPE=image/webp:https://cartercountydrugprevention.org/wp-content/uploads/2026/01/Create-Cope.webp
END:VEVENT
BEGIN:VEVENT
DTSTART;TZID=America/New_York:20261209T180000
DTEND;TZID=America/New_York:20261209T193000
DTSTAMP:20260419T120913
CREATED:20260128T190413Z
LAST-MODIFIED:20260128T190413Z
UID:10002458-1796839200-1796844600@cartercountydrugprevention.org
SUMMARY:Create & Cope: Youth Art Workshop
DESCRIPTION:Free art workshop for youth ages 8-18. This gathering is held in an open creativity environment where youth will be encouraged to express themselves and learn how visual arts can serve as a healthy coping skills. \nSnacks and drinks provided. \nWorkshops are led by our Executive Director\, Nash Acuña\, Professional Artist and Certified Creative Life Coach \nSpecial thanks to TDMHSAS and The Mooneyhan Family Foundation for their support of this program!
URL:https://cartercountydrugprevention.org/event/create-cope/2026-12-09/
LOCATION:Carter County Drug Prevention Office\, 1217 W. G. Street\, Elizabethton\, TN\, 37643\, United States
ATTACH;FMTTYPE=image/webp:https://cartercountydrugprevention.org/wp-content/uploads/2026/01/Create-Cope.webp
END:VEVENT
END:VCALENDAR