BEGIN:VCALENDAR
VERSION:2.0
PRODID:-//Carter County Drug Prevention Coalition - ECPv6.15.20//NONSGML v1.0//EN
CALSCALE:GREGORIAN
METHOD:PUBLISH
X-WR-CALNAME:Carter County Drug Prevention Coalition
X-ORIGINAL-URL:https://cartercountydrugprevention.org
X-WR-CALDESC:Events for Carter County Drug Prevention Coalition
REFRESH-INTERVAL;VALUE=DURATION:PT1H
X-Robots-Tag:noindex
X-PUBLISHED-TTL:PT1H
BEGIN:VTIMEZONE
TZID:America/New_York
BEGIN:DAYLIGHT
TZOFFSETFROM:-0500
TZOFFSETTO:-0400
TZNAME:EDT
DTSTART:20240310T070000
END:DAYLIGHT
BEGIN:STANDARD
TZOFFSETFROM:-0400
TZOFFSETTO:-0500
TZNAME:EST
DTSTART:20241103T060000
END:STANDARD
BEGIN:DAYLIGHT
TZOFFSETFROM:-0500
TZOFFSETTO:-0400
TZNAME:EDT
DTSTART:20250309T070000
END:DAYLIGHT
BEGIN:STANDARD
TZOFFSETFROM:-0400
TZOFFSETTO:-0500
TZNAME:EST
DTSTART:20251102T060000
END:STANDARD
BEGIN:DAYLIGHT
TZOFFSETFROM:-0500
TZOFFSETTO:-0400
TZNAME:EDT
DTSTART:20260308T070000
END:DAYLIGHT
BEGIN:STANDARD
TZOFFSETFROM:-0400
TZOFFSETTO:-0500
TZNAME:EST
DTSTART:20261101T060000
END:STANDARD
END:VTIMEZONE
BEGIN:VEVENT
DTSTART;TZID=America/New_York:20251024T190000
DTEND;TZID=America/New_York:20251024T210000
DTSTAMP:20260420T102248
CREATED:20250911T153854Z
LAST-MODIFIED:20251002T195253Z
UID:10001746-1761332400-1761339600@cartercountydrugprevention.org
SUMMARY:Youth Coalition Halloween Dance Party
DESCRIPTION:
URL:https://cartercountydrugprevention.org/event/youth-coalition-halloween-dance-party/
LOCATION:TN
END:VEVENT
BEGIN:VEVENT
DTSTART;TZID=America/New_York:20251024T193000
DTEND;TZID=America/New_York:20251024T210000
DTSTAMP:20260420T102248
CREATED:20250911T144816Z
LAST-MODIFIED:20251205T155611Z
UID:10001415-1761334200-1761339600@cartercountydrugprevention.org
SUMMARY:Chess Club
DESCRIPTION:Looking for a chill place to unwind\, play games\, and meet new friends? Our weekly Chess Club is open to youth who enjoy chess\, checkers\, card games\, board games\, and anything in between! Drop in anytime during our open hours\, stay as long as you like\, and jump into a game—or just hang out and learn something new. It’s a fun\, easygoing space where everyone is welcome. \nFor more information contact: sarahstewart@cartercountydrugprevention.org
URL:https://cartercountydrugprevention.org/event/chess-club/2025-10-24/
LOCATION:TN
END:VEVENT
END:VCALENDAR